BEGIN:VCALENDAR
VERSION:2.0
PRODID:-//Tukios.com/
BEGIN:VEVENT
UID:6b55d065-7f1e-491a-8571-3b7fdd1a5cba@www.pueblodelreyfuneralservice.com
DTSTAMP:20260423T214949Z
DTSTART:20260429T170000Z
DTEND:20260429T180000Z
SUMMARY:Mass
DESCRIPTION:
URL:https://www.pueblodelreyfuneralservice.com/obituaries/america-martinez
LOCATION: 5444 Hollister Avenue  Santa Barbara CA 93111
GEO:34.435642;-119.814772
END:VEVENT
END:VCALENDAR